BEGIN:VCALENDAR
VERSION:2.0
PRODID:-//East Alton First United Methodist Church - ECPv6.15.20//NONSGML v1.0//EN
CALSCALE:GREGORIAN
METHOD:PUBLISH
X-WR-CALNAME:East Alton First United Methodist Church
X-ORIGINAL-URL:https://eastaltonfumc.org
X-WR-CALDESC:Events for East Alton First United Methodist Church
REFRESH-INTERVAL;VALUE=DURATION:PT1H
X-Robots-Tag:noindex
X-PUBLISHED-TTL:PT1H
BEGIN:VTIMEZONE
TZID:America/Chicago
BEGIN:DAYLIGHT
TZOFFSETFROM:-0600
TZOFFSETTO:-0500
TZNAME:CDT
DTSTART:20180311T080000
END:DAYLIGHT
BEGIN:STANDARD
TZOFFSETFROM:-0500
TZOFFSETTO:-0600
TZNAME:CST
DTSTART:20181104T070000
END:STANDARD
BEGIN:DAYLIGHT
TZOFFSETFROM:-0600
TZOFFSETTO:-0500
TZNAME:CDT
DTSTART:20190310T080000
END:DAYLIGHT
BEGIN:STANDARD
TZOFFSETFROM:-0500
TZOFFSETTO:-0600
TZNAME:CST
DTSTART:20191103T070000
END:STANDARD
BEGIN:DAYLIGHT
TZOFFSETFROM:-0600
TZOFFSETTO:-0500
TZNAME:CDT
DTSTART:20200308T080000
END:DAYLIGHT
BEGIN:STANDARD
TZOFFSETFROM:-0500
TZOFFSETTO:-0600
TZNAME:CST
DTSTART:20201101T070000
END:STANDARD
END:VTIMEZONE
BEGIN:VEVENT
DTSTART;TZID=America/Chicago:20190908T101500
DTEND;TZID=America/Chicago:20190908T113000
DTSTAMP:20260419T082108
CREATED:20190906T002559Z
LAST-MODIFIED:20190906T002559Z
UID:361-1567937700-1567942200@eastaltonfumc.org
SUMMARY:Morning Worship
DESCRIPTION:Please join us for our blended service on Sunday mornings at 10:15am.
URL:https://eastaltonfumc.org/event/morning-worship/
LOCATION:East Alton First United Methodist Church\, 1001 East Third Street\, East Alton\, IL\, 62024
CATEGORIES:Worship
END:VEVENT
END:VCALENDAR